BEGIN:VCALENDAR
VERSION:2.0
PRODID:-//Camillus Erie Canal - ECPv6.4.0.1//NONSGML v1.0//EN
CALSCALE:GREGORIAN
METHOD:PUBLISH
X-ORIGINAL-URL:https://eriecanalcamillus.org
X-WR-CALDESC:Events for Camillus Erie Canal
REFRESH-INTERVAL;VALUE=DURATION:PT1H
X-Robots-Tag:noindex
X-PUBLISHED-TTL:PT1H
BEGIN:VTIMEZONE
TZID:America/New_York
BEGIN:DAYLIGHT
TZOFFSETFROM:-0500
TZOFFSETTO:-0400
TZNAME:EDT
DTSTART:20240310T070000
END:DAYLIGHT
BEGIN:STANDARD
TZOFFSETFROM:-0400
TZOFFSETTO:-0500
TZNAME:EST
DTSTART:20241103T060000
END:STANDARD
END:VTIMEZONE
BEGIN:VEVENT
DTSTART;TZID=America/New_York:20240218T130000
DTEND;TZID=America/New_York:20240218T143000
DTSTAMP:20260422T221202
CREATED:20240102T205700Z
LAST-MODIFIED:20240102T205705Z
UID:721-1708261200-1708266600@eriecanalcamillus.org
SUMMARY:The Lois McClure; Past\, Present & Future
DESCRIPTION:In Fall\, 2023 many of you followed the Canal Schooner the Lois McClure on her journey from Vermont down the Champlain Canal to the Erie Canal to the Cayuga Seneca Canal on her way to her permanent home in Port Byron. Learn from Craig Williams\, President of the Canal Society of New York & Captain Dan Wiles\, Director of the Old Erie Canal Park in Port Byron who lived on the ship as it traveled\, about its past\, present and plans for the future. \n\n\n\nThis talk\, the 2nd of our Snippets & Tales Winter Speakers Series\, is FREE\, with a coffee & cookie reception to follow.  Donations are accepted & appreciated. \n\n\n\nPlease join us at our new lecture location at the Camillus Fire Department\, 5801 Newport Road\, Camillus\, Upper Level Community Room
URL:https://eriecanalcamillus.org/event/the-lois-mcclure-past-present-future/
LOCATION:Camillus Fire Department\, 5801 Newport Road\, Camillus\, New York\, 13031\, United States
ORGANIZER;CN="Camillus Canal Society":MAILTO:info@eriecanalcamillus.org
END:VEVENT
END:VCALENDAR